BEGIN:VCALENDAR
BEGIN:VEVENT
CREATED:20260420T021906
SUMMARY:Oxford Seminars Information Session
DTSTART:20260520T180000
DTEND:20260520T193000
SEQUENCE:2
LOCATION:Live via Zoom. Zoom meeting ID: 613 544 1222, Zoom Link: https://us02web.zoom.us/j/61354412, 
DESCRIPTION: Attending Oxford Seminars Information Session: 6:00 pm CT, Wednesday, May 20, 2026
END:VEVENT
END:VCALENDAR