BEGIN:VCALENDAR
BEGIN:VEVENT
CREATED:20260420T021831
SUMMARY:Oxford Seminars Information Session
DTSTART:20260520T170000
DTEND:20260520T183000
SEQUENCE:2
LOCATION:Live via Zoom. Zoom meeting ID: 613 544 1222, Zoom Link: https://us02web.zoom.us/j/6135441222, 
DESCRIPTION: Attending Oxford Seminars Information Session: 5:00 pm MT, Wednesday, May 20, 2026
END:VEVENT
END:VCALENDAR