BEGIN:VCALENDAR
BEGIN:VEVENT
CREATED:20260420T022259
SUMMARY:Oxford Seminars Information Session
DTSTART:20260506T160000
DTEND:20260506T173000
SEQUENCE:2
LOCATION:Live via Zoom. Zoom meeting ID: 613 544 1222, Zoom Link: https://us02web.zoom.us/j/6135441222, 
DESCRIPTION: Attending Oxford Seminars Information Session: 4:00 pm PT, Wednesday, May 6, 2026
END:VEVENT
END:VCALENDAR