BEGIN:VCALENDAR
BEGIN:VEVENT
CREATED:20260420T021751
SUMMARY:Oxford Seminars Information Session
DTSTART:20260520T200000
DTEND:20260520T213000
SEQUENCE:2
LOCATION:Live via Zoom. Zoom meeting ID: 613 544 1222, Zoom Link: https://us02web.zoom.us/j/6135441222, 
DESCRIPTION: Attending Oxford Seminars Information Session: 8:00 pm AT, Wednesday, May 20, 2026
END:VEVENT
END:VCALENDAR